BEGIN:VCALENDAR
VERSION:2.0
PRODID:Whatcom Community College Calendar Creator
METHOD:PUBLISH
BEGIN:VEVENT
DTSTAMP:20260421T161758
DTSTART:20260427T160000
DTEND:20260427T170000
SUMMARY:ASWCC Services & Activities (S&A) Fee Budget Committee Meeting
DESCRIPTION:<p>Join ASWCC Services &amp; Activities (S&amp;A) Fee Budget Committee Meetings this spring quarter 2026!&nbsp;The Services and Activities Fee Budget Committee is established to ensure responsible and transparent management of the Services and Activities (S&amp;A) fee resources. The committee is tasked with evaluating funding requests, ensuring compliance with institutional and legal guidelines, and providing well-considered recommendations to the Executive Board and the Board of Trustees.</p><p>All WCC students are&nbsp;<strong>welcome and encouraged</strong>&nbsp;to attend to stay informed and voice their opinions.&nbsp;</p><h1>ASWCC Services &amp; Activities (S&amp;A) Fee Budget Committee Meetings</h1><h2>Syre Auditorium</h2><h3>4:00 p.m. - 5:00 p.m.</h3><p><strong>Monday, April 27</strong></p><p><strong>Monday, June 1</strong></p><p>Agendas are posted before meetings on the&nbsp;<a href="https://whatcom1.prod-as.govaccess.org/college-life/aswcc-student-government/services-activities-s-a-fees">ASWCC Services &amp; Activities (S&amp;A) Fees webpage</a>.</p><h5>Want to earn an ASWCC hoodie!? Visit any 10 ASWCC Governance meetings or ASWCC Committee Meetings during spring quarter to receive an exclusive ASWCC hoodie!</h5><p>To request an accommodation, visit our&nbsp;<a href="https://www.whatcom.edu/current-students/access-disability-services"><b>Access &amp; Disability Services</b></a><b>&nbsp;</b>webpage. Please provide advance notice to ensure we are able to grant your request.</p><p></p>
X-ALT-DESC;FMTTYPE=text/html:<p>Join ASWCC Services &amp; Activities (S&amp;A) Fee Budget Committee Meetings this spring quarter 2026!&nbsp;The Services and Activities Fee Budget Committee is established to ensure responsible and transparent management of the Services and Activities (S&amp;A) fee resources. The committee is tasked with evaluating funding requests, ensuring compliance with institutional and legal guidelines, and providing well-considered recommendations to the Executive Board and the Board of Trustees.</p><p>All WCC students are&nbsp;<strong>welcome and encouraged</strong>&nbsp;to attend to stay informed and voice their opinions.&nbsp;</p><h1>ASWCC Services &amp; Activities (S&amp;A) Fee Budget Committee Meetings</h1><h2>Syre Auditorium</h2><h3>4:00 p.m. - 5:00 p.m.</h3><p><strong>Monday, April 27</strong></p><p><strong>Monday, June 1</strong></p><p>Agendas are posted before meetings on the&nbsp;<a href="https://whatcom1.prod-as.govaccess.org/college-life/aswcc-student-government/services-activities-s-a-fees">ASWCC Services &amp; Activities (S&amp;A) Fees webpage</a>.</p><h5>Want to earn an ASWCC hoodie!? Visit any 10 ASWCC Governance meetings or ASWCC Committee Meetings during spring quarter to receive an exclusive ASWCC hoodie!</h5><p>To request an accommodation, visit our&nbsp;<a href="https://www.whatcom.edu/current-students/access-disability-services"><b>Access &amp; Disability Services</b></a><b>&nbsp;</b>webpage. Please provide advance notice to ensure we are able to grant your request.</p><p></p>
LOCATION:Syre Student Center (SSC)\, 235 W. Kellogg Rd. Bellingham\, Washington 98226
CLASS:PUBLIC
END:VEVENT
END:VCALENDAR
