BEGIN:VCALENDAR
VERSION:2.0
PRODID:Whatcom Community College Calendar Creator
METHOD:PUBLISH
BEGIN:VEVENT
DTSTAMP:20260416T124330
DTSTART:20260421T163000
DTEND:20260421T173000
SUMMARY:ASWCC Students of Color in STEM Association
DESCRIPTION:<p>Purpose: Create a community and space for Students of Color pursuing careers in STEM fields to discuss shared experiences and explore solutions for our unique challenges.</p><p>General weekly meetings are open to the entire campus community. Activities and topics discussed vary depending on the meeting. For more information, please contact the Simpson Intercultural Center at: intercultural@whatcom.edu</p>
X-ALT-DESC;FMTTYPE=text/html:<p>Purpose: Create a community and space for Students of Color pursuing careers in STEM fields to discuss shared experiences and explore solutions for our unique challenges.</p><p>General weekly meetings are open to the entire campus community. Activities and topics discussed vary depending on the meeting. For more information, please contact the Simpson Intercultural Center at: intercultural@whatcom.edu</p>
LOCATION:Simpson Intercultural Center SYRE217\, 
CLASS:PUBLIC
END:VEVENT
END:VCALENDAR
