BEGIN:VCALENDAR
VERSION:2.0
PRODID:Whatcom Community College Calendar Creator
METHOD:PUBLISH
BEGIN:VEVENT
DTSTAMP:20260416T123855
DTSTART:20260422T160000
DTEND:20260422T170000
SUMMARY:ASWCC Pride Student Union General Meeting
DESCRIPTION:<p>Purpose:&nbsp;To create a safe space and raise awareness for all gender identities.</p><p>General weekly meetings are open to the entire campus community. Activities and topics discussed vary depending on the meeting. For more information, please contact the Simpson Intercultural Center at: intercultural@whatcom.edu</p>
X-ALT-DESC;FMTTYPE=text/html:<p>Purpose:&nbsp;To create a safe space and raise awareness for all gender identities.</p><p>General weekly meetings are open to the entire campus community. Activities and topics discussed vary depending on the meeting. For more information, please contact the Simpson Intercultural Center at: intercultural@whatcom.edu</p>
LOCATION:QT Pride Space SYRE216\, 
CLASS:PUBLIC
END:VEVENT
END:VCALENDAR
