BEGIN:VCALENDAR
VERSION:2.0
PRODID:Whatcom Community College Calendar Creator
METHOD:PUBLISH
BEGIN:VEVENT
DTSTAMP:20260416T123549
DTSTART:20260423T163000
DTEND:20260423T173000
SUMMARY:ASWCC Latine Student Union General Meeting
DESCRIPTION:<p>Mission:&nbsp;We are here to empower Whatcom’s diverse Latine community while strengthening connection to our cultures. We strive to represent all aspects of identity recognizing intersectionality while diversifying ideas and campus contributions. Building a legacy that bolsters Latine representation and recognition.&nbsp;</p><p>General weekly meetings are open to the entire campus community. Activities and topics discussed vary depending on the meeting. For more information, please contact the Simpson Intercultural Center at: intercultural@whatcom.edu</p>
X-ALT-DESC;FMTTYPE=text/html:<p>Mission:&nbsp;We are here to empower Whatcom’s diverse Latine community while strengthening connection to our cultures. We strive to represent all aspects of identity recognizing intersectionality while diversifying ideas and campus contributions. Building a legacy that bolsters Latine representation and recognition.&nbsp;</p><p>General weekly meetings are open to the entire campus community. Activities and topics discussed vary depending on the meeting. For more information, please contact the Simpson Intercultural Center at: intercultural@whatcom.edu</p>
LOCATION:Simpson Intercultural Center SYRE 217\, 
CLASS:PUBLIC
END:VEVENT
END:VCALENDAR
