BEGIN:VCALENDAR
VERSION:2.0
PRODID:Whatcom Community College Calendar Creator
METHOD:PUBLISH
BEGIN:VEVENT
DTSTAMP:20260416T123150
DTSTART:20260423T150000
DTEND:20260423T160000
SUMMARY:ASWCC Asian Student Union General Meeting
DESCRIPTION:<div ltr="" scxw73893792="" bcx0"=""><p scxw73893792="" bcx0"="" paraid="100055722" paraeid="{5f9569ec-224c-4068-a375-af042145c77d}{15}">The Asian Student Union&nbsp;(ASU)&nbsp;is a welcoming space where&nbsp;students&nbsp;celebrate and connect with Asian culture, identities, and backgrounds.&nbsp;ASU promotes cultural education and celebration through events and meetings. Meetings are open to any current WCC student.&nbsp;</p></div><div ltr="" scxw73893792="" bcx0"=""><p scxw73893792="" bcx0"="" paraid="772793195" paraeid="{5d7d4625-7861-44a5-98c3-9ac217e523b6}{21}">General weekly meetings are open to the entire campus community. Activities and topics discussed vary depending on the meeting. For more information, please contact the Simpson Intercultural Center at:&nbsp;<a scxw73893792="" bcx0"="" href="mailto:intercultural@whatcom.edu" target="_blank" rel="noreferrer noopener">intercultural@whatcom.edu</a>&nbsp;</p></div>
X-ALT-DESC;FMTTYPE=text/html:<div ltr="" scxw73893792="" bcx0"=""><p scxw73893792="" bcx0"="" paraid="100055722" paraeid="{5f9569ec-224c-4068-a375-af042145c77d}{15}">The Asian Student Union&nbsp;(ASU)&nbsp;is a welcoming space where&nbsp;students&nbsp;celebrate and connect with Asian culture, identities, and backgrounds.&nbsp;ASU promotes cultural education and celebration through events and meetings. Meetings are open to any current WCC student.&nbsp;</p></div><div ltr="" scxw73893792="" bcx0"=""><p scxw73893792="" bcx0"="" paraid="772793195" paraeid="{5d7d4625-7861-44a5-98c3-9ac217e523b6}{21}">General weekly meetings are open to the entire campus community. Activities and topics discussed vary depending on the meeting. For more information, please contact the Simpson Intercultural Center at:&nbsp;<a scxw73893792="" bcx0"="" href="mailto:intercultural@whatcom.edu" target="_blank" rel="noreferrer noopener">intercultural@whatcom.edu</a>&nbsp;</p></div>
LOCATION:Simpson Intercultural Center SYRE217\, 
CLASS:PUBLIC
END:VEVENT
END:VCALENDAR
