BEGIN:VCALENDAR
VERSION:2.0
PRODID:Whatcom Community College Calendar Creator
METHOD:PUBLISH
BEGIN:VEVENT
DTSTAMP:20250417T081721
DTSTART:20260306T000000
DTEND:20260306T235900
SUMMARY:Winter 2026 last day to withdraw from classes with a "W" grade, change grading option, enroll in continuous enrollment classes and audit or change to variable credits
DESCRIPTION:
X-ALT-DESC;FMTTYPE=text/html:
LOCATION:
CLASS:PUBLIC
END:VEVENT
END:VCALENDAR
